BEGIN:VCALENDAR
VERSION:2.0
PRODID:-//Truckee Meadows Water Authority - ECPv6.15.18//NONSGML v1.0//EN
CALSCALE:GREGORIAN
METHOD:PUBLISH
X-ORIGINAL-URL:https://tmwa.com
X-WR-CALDESC:Events for Truckee Meadows Water Authority
REFRESH-INTERVAL;VALUE=DURATION:PT1H
X-Robots-Tag:noindex
X-PUBLISHED-TTL:PT1H
BEGIN:VTIMEZONE
TZID:America/Los_Angeles
BEGIN:DAYLIGHT
TZOFFSETFROM:-0800
TZOFFSETTO:-0700
TZNAME:PDT
DTSTART:20220313T100000
END:DAYLIGHT
BEGIN:STANDARD
TZOFFSETFROM:-0700
TZOFFSETTO:-0800
TZNAME:PST
DTSTART:20221106T090000
END:STANDARD
BEGIN:DAYLIGHT
TZOFFSETFROM:-0800
TZOFFSETTO:-0700
TZNAME:PDT
DTSTART:20230312T100000
END:DAYLIGHT
BEGIN:STANDARD
TZOFFSETFROM:-0700
TZOFFSETTO:-0800
TZNAME:PST
DTSTART:20231105T090000
END:STANDARD
BEGIN:DAYLIGHT
TZOFFSETFROM:-0800
TZOFFSETTO:-0700
TZNAME:PDT
DTSTART:20240310T100000
END:DAYLIGHT
BEGIN:STANDARD
TZOFFSETFROM:-0700
TZOFFSETTO:-0800
TZNAME:PST
DTSTART:20241103T090000
END:STANDARD
BEGIN:DAYLIGHT
TZOFFSETFROM:-0800
TZOFFSETTO:-0700
TZNAME:PDT
DTSTART:20250309T100000
END:DAYLIGHT
BEGIN:STANDARD
TZOFFSETFROM:-0700
TZOFFSETTO:-0800
TZNAME:PST
DTSTART:20251102T090000
END:STANDARD
BEGIN:DAYLIGHT
TZOFFSETFROM:-0800
TZOFFSETTO:-0700
TZNAME:PDT
DTSTART:20260308T100000
END:DAYLIGHT
BEGIN:STANDARD
TZOFFSETFROM:-0700
TZOFFSETTO:-0800
TZNAME:PST
DTSTART:20261101T090000
END:STANDARD
END:VTIMEZONE
BEGIN:VEVENT
DTSTART;TZID=America/Los_Angeles:20251209T180000
DTEND;TZID=America/Los_Angeles:20251209T190000
DTSTAMP:20260421T222219
CREATED:20251016T164916Z
LAST-MODIFIED:20251210T005055Z
UID:33990-1765303200-1765306800@tmwa.com
SUMMARY:Public Workshop: Cost-of-Service Adjustment Dec. 9\, 2025
DESCRIPTION:Truckee Meadows Water Authority (TMWA) invites you to a public workshop on upcoming adjustments to the way water rates are structured. These changes are based on a Cost of Service (COS) study presented to the TMWA Board of Directors in September. The purpose of the COS adjustment is fairness. It ensures customers are proportionally charged for the costs of providing water service\, including both fixed costs (pipes\, pumps\, treatment plants\, reservoirs) and variable costs (power\, treatment chemicals\, etc.). Importantly\, the COS adjustment does not increase TMWA’s overall revenue. Instead\, it redistributes costs more equitably so that no customer group is subsidizing another. \nFor most customers\, this will mean little to no change in bills. Many will see slightly reduced per-gallon water charges\, while customers with high seasonal water use may notice adjustments as rates are balanced across service classes. \nJoin us to learn more\, view bill examples\, ask questions and share your input. \nNOTE: Both scheduled Cost-of-Service workshops will cover the same material. \nZOOM Link: https://tmwa.zoom.us/j/81634423912
URL:https://tmwa.com/meeting/workshop-cost-of-service-adjustment-dec-9-2025/
CATEGORIES:Open House,Other Public Meetings,Workshops
END:VEVENT
BEGIN:VEVENT
DTSTART;TZID=America/Los_Angeles:20250611T173000
DTEND;TZID=America/Los_Angeles:20250611T183000
DTSTAMP:20260421T222219
CREATED:20250502T143403Z
LAST-MODIFIED:20250910T150341Z
UID:33212-1749663000-1749666600@tmwa.com
SUMMARY:Draft 2025-2045 Water Resource Plan Public Open House - June 11\, 2025
DESCRIPTION:We Are Seeking Public Feedback on Our Draft 2025-2045 Water Resource Plan \nPlease join TMWA staff on June 11 at the Sparks Library for a public open house for TMWA’s Draft 2025-2045 Water Resource Plan (WRP). Since our founding in 2001\, TMWA has updated its twenty-year WRP every five years. The purpose of this plan is to analyze future conditions and outline strategies to meet the region’s drinking water needs. TMWA’s planning process is essential in effectively managing water resources to provide a resilient and reliable supply for our community. \nPublic Feedback is Critical to Our Planning Process \nUpdating the WRP is an extensive process. A critical part of this process is engaging the community to gather feedback\, address questions about the draft plan\, and identify any additional concerns related to local water resources that may not yet be included. \nWith this in mind\, we invite TMWA customers to review the Draft 2025-2045 Water Resource Plan and share their comments or questions at this open house. \nIf you can’t make one of our open house events\, you can still provide feedback by completing the brief form below. Please keep in mind that the public comment period closes June 30\, 2025. \n\nView DRAFT 2025-2045 Water Resource Plan\nView the 2020-2040 Water Resource Plan\n\n\n\n                \n                        \n                            WRP 2025 Feedback Form\n                             \n                        \n                        Add Your Question/s or Comments About the Draft Water Resource Plan HereEmail*\n                            \n                        Name*\n                            \n                            \n                                                    \n                                                    First\n                                                \n                            \n                            \n                                                    \n                                                    Last\n                                                \n                            \n                        CAPTCHA\n          \n            \n            \n            \n            \n            \n            \n            \n            \n            \n            \n            \n            \n            \n        \n                        Δ
URL:https://tmwa.com/meeting/2025-2045-water-resource-plan-open-house/
LOCATION:Sparks Library\, 1125 12th St.\, Sparks\, Nevada\, 89431
CATEGORIES:Open House,Workshops
END:VEVENT
BEGIN:VEVENT
DTSTART;TZID=America/Los_Angeles:20241029T170000
DTEND;TZID=America/Los_Angeles:20241029T190000
DTSTAMP:20260421T222219
CREATED:20241018T172612Z
LAST-MODIFIED:20241018T172612Z
UID:32200-1730221200-1730228400@tmwa.com
SUMMARY:Public Open House: Proposed Changes to Rules 5\, 6\, 8 and 10-October 29\, 2024
DESCRIPTION:
URL:https://tmwa.com/meeting/public-open-house-proposed-changes-to-rules-5-6-8-and-10-october-29-2024/
LOCATION:TMWA Main Office\, 1355 Capital Blvd.\, Reno\, NV\, 89502\, United States
CATEGORIES:Open House,Other Public Meetings
END:VEVENT
BEGIN:VEVENT
DTSTART;TZID=America/Los_Angeles:20231211T173000
DTEND;TZID=America/Los_Angeles:20231211T183000
DTSTAMP:20260421T222219
CREATED:20231205T235503Z
LAST-MODIFIED:20231205T235503Z
UID:30761-1702315800-1702319400@tmwa.com
SUMMARY:Notice of Possible Quorum: Board of Directors & Standing Advisory Committee
DESCRIPTION:
URL:https://tmwa.com/meeting/notice-of-possible-quorum-board-of-directors-standing-advisory-committee/
LOCATION:Spanish Springs Library at Lazy 5 Regional Ranch\, 7100 Pyramid Lake Highway\, Spanish Springs\, NV\, 89436\, United States
CATEGORIES:Open House
END:VEVENT
BEGIN:VEVENT
DTSTART;TZID=America/Los_Angeles:20231211T173000
DTEND;TZID=America/Los_Angeles:20231211T183000
DTSTAMP:20260421T222219
CREATED:20231023T193409Z
LAST-MODIFIED:20231108T180318Z
UID:30649-1702315800-1702319400@tmwa.com
SUMMARY:Open House: Proposed Rate Adjustment-Mon\, Dec 11\, 2023
DESCRIPTION:This open house will be held at the Spanish Springs Library in the Paiute Room.
URL:https://tmwa.com/meeting/open-house-proposed-rate-adjustment-mon-dec-11-2023/
LOCATION:Spanish Springs Library at Lazy 5 Regional Ranch\, 7100 Pyramid Lake Highway\, Spanish Springs\, NV\, 89436\, United States
CATEGORIES:Open House
END:VEVENT
BEGIN:VEVENT
DTSTART;TZID=America/Los_Angeles:20231205T173000
DTEND;TZID=America/Los_Angeles:20231205T183000
DTSTAMP:20260421T222219
CREATED:20231129T195839Z
LAST-MODIFIED:20231129T195839Z
UID:30748-1701797400-1701801000@tmwa.com
SUMMARY:Notice of Possible Quorum: TMWA Board of Directors & Standing Advisory Committee
DESCRIPTION:
URL:https://tmwa.com/meeting/notice-of-possible-quorum-tmwa-board-of-directors-standing-advisory-committee-2/
LOCATION:McKinley Arts & Culture Center\, 925 Riverside Drive\, Reno\, NV\, 89503\, United States
CATEGORIES:Open House
END:VEVENT
BEGIN:VEVENT
DTSTART;TZID=America/Los_Angeles:20231205T173000
DTEND;TZID=America/Los_Angeles:20231205T183000
DTSTAMP:20260421T222219
CREATED:20231023T193311Z
LAST-MODIFIED:20231023T193640Z
UID:30647-1701797400-1701801000@tmwa.com
SUMMARY:Open House: Proposed Rate Adjustment-Tues\, Dec 5\, 2023
DESCRIPTION:This meeting will be held at the McKinley Arts & Culture Center in the Auditorium room.
URL:https://tmwa.com/meeting/open-house-proposed-rate-adjustment-tues-dec-5-2023/
LOCATION:McKinley Arts & Culture Center\, 925 Riverside Drive\, Reno\, NV\, 89503\, United States
CATEGORIES:Open House
END:VEVENT
BEGIN:VEVENT
DTSTART;TZID=America/Los_Angeles:20231115T173000
DTEND;TZID=America/Los_Angeles:20231115T183000
DTSTAMP:20260421T222219
CREATED:20231023T193201Z
LAST-MODIFIED:20231023T193602Z
UID:30645-1700069400-1700073000@tmwa.com
SUMMARY:Open House: Proposed Rate Adjustment-Wed\, Nov 15\, 2023
DESCRIPTION:This open house will be held at TMWA’s Corporate office in the Independence Room.
URL:https://tmwa.com/meeting/open-house-proposed-rate-adjustment-wed-nov-15-2023/
LOCATION:TMWA Main Office\, 1355 Capital Blvd.\, Reno\, NV\, 89502\, United States
CATEGORIES:Open House
END:VEVENT
BEGIN:VEVENT
DTSTART;TZID=America/Los_Angeles:20231114T173000
DTEND;TZID=America/Los_Angeles:20231114T183000
DTSTAMP:20260421T222219
CREATED:20231107T182637Z
LAST-MODIFIED:20231107T182637Z
UID:30714-1699983000-1699986600@tmwa.com
SUMMARY:Possible Quorum: TMWA Board of Directors & Standing Advisory Committee
DESCRIPTION:
URL:https://tmwa.com/meeting/possible-quorum-tmwa-board-of-directors-standing-advisory-committee/
LOCATION:South Valleys Library\, 15650 Wedge Pkwy\, Reno\, NV\, 89511\, United States
CATEGORIES:Board of Director Meetings,Committee Meetings,Open House
END:VEVENT
BEGIN:VEVENT
DTSTART;TZID=America/Los_Angeles:20231114T173000
DTEND;TZID=America/Los_Angeles:20231114T183000
DTSTAMP:20260421T222219
CREATED:20231023T193019Z
LAST-MODIFIED:20231104T000356Z
UID:30643-1699983000-1699986600@tmwa.com
SUMMARY:Open House: Proposed Rate Adjustments-Tues\, Nov 14\, 2023
DESCRIPTION:This open house will be held in the Diamond Room in the South Valleys Library.
URL:https://tmwa.com/meeting/open-house-proposed-rate-adjustments-tues-nov-14-2023/
LOCATION:South Valleys Library\, 15650 Wedge Pkwy\, Reno\, NV\, 89511\, United States
CATEGORIES:Open House
END:VEVENT
END:VCALENDAR