BEGIN:VCALENDAR
VERSION:2.0
PRODID:-//Truckee Meadows Water Authority - ECPv6.15.18//NONSGML v1.0//EN
CALSCALE:GREGORIAN
METHOD:PUBLISH
X-WR-CALNAME:Truckee Meadows Water Authority
X-ORIGINAL-URL:https://tmwa.com
X-WR-CALDESC:Events for Truckee Meadows Water Authority
REFRESH-INTERVAL;VALUE=DURATION:PT1H
X-Robots-Tag:noindex
X-PUBLISHED-TTL:PT1H
BEGIN:VTIMEZONE
TZID:America/Los_Angeles
BEGIN:DAYLIGHT
TZOFFSETFROM:-0800
TZOFFSETTO:-0700
TZNAME:PDT
DTSTART:20230312T100000
END:DAYLIGHT
BEGIN:STANDARD
TZOFFSETFROM:-0700
TZOFFSETTO:-0800
TZNAME:PST
DTSTART:20231105T090000
END:STANDARD
BEGIN:DAYLIGHT
TZOFFSETFROM:-0800
TZOFFSETTO:-0700
TZNAME:PDT
DTSTART:20240310T100000
END:DAYLIGHT
BEGIN:STANDARD
TZOFFSETFROM:-0700
TZOFFSETTO:-0800
TZNAME:PST
DTSTART:20241103T090000
END:STANDARD
BEGIN:DAYLIGHT
TZOFFSETFROM:-0800
TZOFFSETTO:-0700
TZNAME:PDT
DTSTART:20250309T100000
END:DAYLIGHT
BEGIN:STANDARD
TZOFFSETFROM:-0700
TZOFFSETTO:-0800
TZNAME:PST
DTSTART:20251102T090000
END:STANDARD
END:VTIMEZONE
BEGIN:VEVENT
DTSTART;TZID=America/Los_Angeles:20240716T123000
DTEND;TZID=America/Los_Angeles:20240716T130000
DTSTAMP:20260423T194935
CREATED:20240710T193300Z
LAST-MODIFIED:20250107T225937Z
UID:31745-1721133000-1721134800@tmwa.com
SUMMARY:OPEB SECTION 115 TRUST MEETING
DESCRIPTION:07/16/2024 – Trust Meeting\nIn person and Teleconference\nPhone: (775) 325-5404\nMeeting ID: 210 362 641 252#\nMembers of the public may attend telephonically by calling the number listed above.\n(Be sure to keep your phones on mute\, and do not place the call on hold)
URL:https://tmwa.com/meeting/opeb-section-115-trust-meeting-4/
LOCATION:TMWA Main Office\, 1355 Capital Blvd.\, Reno\, NV\, 89502\, United States
CATEGORIES:Other Public Meetings,Post-Retirement
END:VEVENT
BEGIN:VEVENT
DTSTART;TZID=America/Los_Angeles:20240716T130000
DTEND;TZID=America/Los_Angeles:20240716T133000
DTSTAMP:20260423T194935
CREATED:20240710T193448Z
LAST-MODIFIED:20250107T230314Z
UID:31747-1721134800-1721136600@tmwa.com
SUMMARY:PRMT SECTION 501-C-9 TRUST MEETING
DESCRIPTION:07/16/2024 – Trust Meeting\nIn person and Teleconference\nPhone: (775) 325-5404\nMeeting ID: 262 559 077 343#\nMembers of the public may attend telephonically by calling the number listed above.\n(Be sure to keep your phones on mute\, and do not place the call on hold)
URL:https://tmwa.com/meeting/prmt-section-501-c-9-trust-meeting-2/
LOCATION:TMWA Main Office\, 1355 Capital Blvd.\, Reno\, NV\, 89502\, United States
CATEGORIES:Other Public Meetings,Post-Retirement
END:VEVENT
BEGIN:VEVENT
DTSTART;TZID=America/Los_Angeles:20240717T100000
DTEND;TZID=America/Los_Angeles:20240717T120000
DTSTAMP:20260423T194935
CREATED:20240102T190003Z
LAST-MODIFIED:20240626T154747Z
UID:30884-1721210400-1721217600@tmwa.com
SUMMARY:CANCELLED: TMWA Board of Directors Meeting-Wed\, Jul 17\, 2024
DESCRIPTION:
URL:https://tmwa.com/meeting/tmwa-board-of-directors-meeting-wed-jul-17-2024/
LOCATION:NV
CATEGORIES:Board of Director Meetings
END:VEVENT
BEGIN:VEVENT
DTSTART;TZID=America/Los_Angeles:20240723T123000
DTEND;TZID=America/Los_Angeles:20240723T133000
DTSTAMP:20260423T194935
CREATED:20240717T174907Z
LAST-MODIFIED:20250107T230352Z
UID:31815-1721737800-1721741400@tmwa.com
SUMMARY:Post Retirement Medical Plan & Trust Section 501-c-9 Meeting
DESCRIPTION:07/23/2024 – Trust Meeting\nIn person and Teleconference\nPhone: (775) 325-5404\nMeeting ID: 294 945 183 955#\nMembers of the public may attend telephonically by calling the number listed above.\n(Be sure to keep your phones on mute\, and do not place the call on hold)
URL:https://tmwa.com/meeting/post-retirement-medical-plan-trust-section-501-c-9-meeting-22/
LOCATION:TMWA Main Office\, 1355 Capital Blvd.\, Reno\, NV\, 89502\, United States
CATEGORIES:Other Public Meetings,Post-Retirement
END:VEVENT
END:VCALENDAR