BEGIN:VCALENDAR
VERSION:2.0
PRODID:-//Truckee Meadows Water Authority - ECPv6.15.18//NONSGML v1.0//EN
CALSCALE:GREGORIAN
METHOD:PUBLISH
X-WR-CALNAME:Truckee Meadows Water Authority
X-ORIGINAL-URL:https://tmwa.com
X-WR-CALDESC:Events for Truckee Meadows Water Authority
REFRESH-INTERVAL;VALUE=DURATION:PT1H
X-Robots-Tag:noindex
X-PUBLISHED-TTL:PT1H
BEGIN:VTIMEZONE
TZID:America/Los_Angeles
BEGIN:DAYLIGHT
TZOFFSETFROM:-0800
TZOFFSETTO:-0700
TZNAME:PDT
DTSTART:20230312T100000
END:DAYLIGHT
BEGIN:STANDARD
TZOFFSETFROM:-0700
TZOFFSETTO:-0800
TZNAME:PST
DTSTART:20231105T090000
END:STANDARD
BEGIN:DAYLIGHT
TZOFFSETFROM:-0800
TZOFFSETTO:-0700
TZNAME:PDT
DTSTART:20240310T100000
END:DAYLIGHT
BEGIN:STANDARD
TZOFFSETFROM:-0700
TZOFFSETTO:-0800
TZNAME:PST
DTSTART:20241103T090000
END:STANDARD
BEGIN:DAYLIGHT
TZOFFSETFROM:-0800
TZOFFSETTO:-0700
TZNAME:PDT
DTSTART:20250309T100000
END:DAYLIGHT
BEGIN:STANDARD
TZOFFSETFROM:-0700
TZOFFSETTO:-0800
TZNAME:PST
DTSTART:20251102T090000
END:STANDARD
END:VTIMEZONE
BEGIN:VEVENT
DTSTART;TZID=America/Los_Angeles:20240819T130000
DTEND;TZID=America/Los_Angeles:20240819T160000
DTSTAMP:20260423T183126
CREATED:20240812T190651Z
LAST-MODIFIED:20241206T201346Z
UID:31929-1724072400-1724083200@tmwa.com
SUMMARY:NEW DAY: TMWA Board of Directors Meeting-Mon\, Aug 19\, 2024
DESCRIPTION:MEETING VIA TELECONFERENCE & IN-PERSON \nMEMBERS OF THE PUBLIC MAY ATTEND VIA THE WEB LINK\, OR TELEPHONICALLY BY CALLING THE NUMBER\, LISTED BELOW. \n(be sure to keep your phones or microphones on mute\, and do not place the call on hold) \nPlease click the link below to join the webinar:  \nhttps://tmwa.zoom.us/j/89110512999?pwd=arIPdIzbhulpZp5UVyPbTjxOsLLXAL.1 \nPasscode: 771487 \nOr call: \nPhone: (888) 788-0099 \nWebinar ID: 891 1051 2999
URL:https://tmwa.com/meeting/new-day-tmwa-board-of-directors-meeting-mon-aug-16-2024/
LOCATION:TMWA Main Office\, 1355 Capital Blvd.\, Reno\, NV\, 89502\, United States
CATEGORIES:Board of Director Meetings
END:VEVENT
BEGIN:VEVENT
DTSTART;TZID=America/Los_Angeles:20240821T100000
DTEND;TZID=America/Los_Angeles:20240821T110000
DTSTAMP:20260423T183126
CREATED:20240206T180054Z
LAST-MODIFIED:20240723T221937Z
UID:22366-1724234400-1724238000@tmwa.com
SUMMARY:Verdi Hydroelectric Power Plant Tour - Aug. 21\, 2024
DESCRIPTION:Customers are invited to tour the Verdi Hydroelectric Power Plant\, which has been producing clean\, renewable energy for 100 years. The tours are open to all TMWA customers. Each tour is limited to 20 people. \nPlease email rsvp@tmwa.com or call 775-834-8290 to reserve your spot. \nAll attendees will be required to sign a liability waiver before participating in the tour. Attendees must be a minimum of 18 years of age or accompanied by an adult.
URL:https://tmwa.com/meeting/verdi-hydroelectric-power-plant-tour-aug-21-2024/
LOCATION:Verdi Hyrdoelectric Power Plant\, 0 Powerhouse Road\, Reno\, NV\, 89439\, United States
CATEGORIES:Tours
END:VEVENT
BEGIN:VEVENT
DTSTART;TZID=America/Los_Angeles:20240821T100000
DTEND;TZID=America/Los_Angeles:20240821T120000
DTSTAMP:20260423T183126
CREATED:20240102T190049Z
LAST-MODIFIED:20240816T184230Z
UID:30886-1724234400-1724241600@tmwa.com
SUMMARY:CANCELLED: TMWA Board of Directors Meeting-Wed\, Aug 21\, 2024
DESCRIPTION:The regularly scheduled August 21\, 2024 meeting of the Truckee Meadows Water Authority Board of Directors has been cancelled. The next regularly scheduled meeting is September 18\, 2024. \nIf you have any questions\, please call 834-8002. \nThank you.
URL:https://tmwa.com/meeting/tmwa-board-of-directors-meeting-wed-aug-21-2024/
LOCATION:Sparks Council Chambers\, 745 4th Street\, Sparks\, NV\, 89431\, United States
CATEGORIES:Board of Director Meetings
END:VEVENT
BEGIN:VEVENT
DTSTART;TZID=America/Los_Angeles:20240828T100000
DTEND;TZID=America/Los_Angeles:20240828T110000
DTSTAMP:20260423T183126
CREATED:20240206T180003Z
LAST-MODIFIED:20240723T222017Z
UID:22367-1724839200-1724842800@tmwa.com
SUMMARY:Verdi Hydroelectric Power Plant Tour - August 28\, 2024
DESCRIPTION:Customers are invited to tour the Verdi Hydroelectric Power Plant\, which has been producing clean\, renewable energy for 100 years. The tours are open to all TMWA customers. Each tour is limited to 20 people. \nPlease email rsvp@tmwa.com or call 775-834-8290 to reserve your spot. \nAll attendees will be required to sign a liability waiver before participating in the tour. Attendees must be a minimum of 18 years of age or accompanied by an adult.
URL:https://tmwa.com/meeting/verdi-hydroelectric-power-plant-tour-aug-28-2024/
LOCATION:Verdi Hyrdoelectric Power Plant\, 0 Powerhouse Road\, Reno\, NV\, 89439\, United States
CATEGORIES:Tours
END:VEVENT
END:VCALENDAR