BEGIN:VCALENDAR
VERSION:2.0
PRODID:-//Truckee Meadows Water Authority - ECPv6.15.18//NONSGML v1.0//EN
CALSCALE:GREGORIAN
METHOD:PUBLISH
X-WR-CALNAME:Truckee Meadows Water Authority
X-ORIGINAL-URL:https://tmwa.com
X-WR-CALDESC:Events for Truckee Meadows Water Authority
REFRESH-INTERVAL;VALUE=DURATION:PT1H
X-Robots-Tag:noindex
X-PUBLISHED-TTL:PT1H
BEGIN:VTIMEZONE
TZID:America/Los_Angeles
BEGIN:DAYLIGHT
TZOFFSETFROM:-0800
TZOFFSETTO:-0700
TZNAME:PDT
DTSTART:20230312T100000
END:DAYLIGHT
BEGIN:STANDARD
TZOFFSETFROM:-0700
TZOFFSETTO:-0800
TZNAME:PST
DTSTART:20231105T090000
END:STANDARD
BEGIN:DAYLIGHT
TZOFFSETFROM:-0800
TZOFFSETTO:-0700
TZNAME:PDT
DTSTART:20240310T100000
END:DAYLIGHT
BEGIN:STANDARD
TZOFFSETFROM:-0700
TZOFFSETTO:-0800
TZNAME:PST
DTSTART:20241103T090000
END:STANDARD
BEGIN:DAYLIGHT
TZOFFSETFROM:-0800
TZOFFSETTO:-0700
TZNAME:PDT
DTSTART:20250309T100000
END:DAYLIGHT
BEGIN:STANDARD
TZOFFSETFROM:-0700
TZOFFSETTO:-0800
TZNAME:PST
DTSTART:20251102T090000
END:STANDARD
END:VTIMEZONE
BEGIN:VEVENT
DTSTART;TZID=America/Los_Angeles:20240907T100000
DTEND;TZID=America/Los_Angeles:20240907T110000
DTSTAMP:20260423T171911
CREATED:20240206T180000Z
LAST-MODIFIED:20240723T222037Z
UID:22368-1725703200-1725706800@tmwa.com
SUMMARY:Verdi Hydroelectric Power Plant Tour - Sept. 7\, 2024
DESCRIPTION:Customers are invited to tour the Verdi Hydroelectric Power Plant\, which has been producing clean\, renewable energy for 100 years. The tours are open to all TMWA customers. Each tour is limited to 20 people. \nPlease email rsvp@tmwa.com or call 775-834-8290 to reserve your spot. \nAll attendees will be required to sign a liability waiver before participating in the tour. Attendees must be a minimum of 18 years of age or accompanied by an adult.
URL:https://tmwa.com/meeting/verdi-hydroelectric-power-plant-tour-sept-7-2024/
LOCATION:Verdi Hyrdoelectric Power Plant\, 0 Powerhouse Road\, Reno\, NV\, 89439\, United States
CATEGORIES:Tours
END:VEVENT
BEGIN:VEVENT
DTSTART;TZID=America/Los_Angeles:20240911T140000
DTEND;TZID=America/Los_Angeles:20240911T150000
DTSTAMP:20260423T171911
CREATED:20240206T180057Z
LAST-MODIFIED:20240723T221633Z
UID:22370-1726063200-1726066800@tmwa.com
SUMMARY:Verdi Hydroelectric Power Plant Tour - Sept. 11\, 2024
DESCRIPTION:Customers are invited to tour the Verdi Hydroelectric Power Plant\, which has been producing clean\, renewable energy for 100 years. The tours are open to all TMWA customers. Each tour is limited to 20 people. \nPlease email rsvp@tmwa.com or call 775-834-8290 to reserve your spot. \nAll attendees will be required to sign a liability waiver before participating in the tour. Attendees must be a minimum of 18 years of age or accompanied by an adult.
URL:https://tmwa.com/meeting/verdi-hydroelectric-power-plant-tour-sept-11-2024/
LOCATION:Verdi Hyrdoelectric Power Plant\, 0 Powerhouse Road\, Reno\, NV\, 89439\, United States
CATEGORIES:Tours
END:VEVENT
BEGIN:VEVENT
DTSTART;TZID=America/Los_Angeles:20240918T100000
DTEND;TZID=America/Los_Angeles:20240918T120000
DTSTAMP:20260423T171911
CREATED:20240102T190142Z
LAST-MODIFIED:20241016T214708Z
UID:30888-1726653600-1726660800@tmwa.com
SUMMARY:TMWA Board of Directors Meeting-Wed\, Sept 18\, 2024
DESCRIPTION:
URL:https://tmwa.com/meeting/tmwa-board-of-directors-meeting-wed-sept-18-2024/
LOCATION:Sparks Council Chambers\, 745 4th Street\, Sparks\, NV\, 89431\, United States
CATEGORIES:Board of Director Meetings
END:VEVENT
BEGIN:VEVENT
DTSTART;TZID=America/Los_Angeles:20240918T140000
DTEND;TZID=America/Los_Angeles:20240918T150000
DTSTAMP:20260423T171911
CREATED:20240206T180053Z
LAST-MODIFIED:20240723T221958Z
UID:22371-1726668000-1726671600@tmwa.com
SUMMARY:Verdi Hydroelectric Power Plant Tour - Sept. 18\, 2024
DESCRIPTION:Customers are invited to tour the Verdi Hydroelectric Power Plant\, which has been producing clean\, renewable energy for 100 years. The tours are open to all TMWA customers. Each tour is limited to 20 people. \nPlease email rsvp@tmwa.com or call 775-834-8290 to reserve your spot. \nAll attendees will be required to sign a liability waiver before participating in the tour. Attendees must be a minimum of 18 years of age or accompanied by an adult.
URL:https://tmwa.com/meeting/verdi-hydroelectric-power-plant-tour-sept-18-2024/
LOCATION:Verdi Hyrdoelectric Power Plant\, 0 Powerhouse Road\, Reno\, NV\, 89439\, United States
CATEGORIES:Tours
END:VEVENT
BEGIN:VEVENT
DTSTART;TZID=America/Los_Angeles:20240924T130000
DTEND;TZID=America/Los_Angeles:20240924T140000
DTSTAMP:20260423T171911
CREATED:20240206T180010Z
LAST-MODIFIED:20240723T221836Z
UID:22383-1727182800-1727186400@tmwa.com
SUMMARY:Tour - Chalk Bluff Water Treatment Plant - Sept. 24\, 2024
DESCRIPTION:Lake Tahoe is an excellent source of water and our team of highly skilled engineers\, scientists and operators use this source water to provide you with high-quality drinking water. As you tour the Chalk Bluff Water Treatment Plant\, our expert staff will explain the water treatment and distribution processes\, as well as discuss current challenges and answer your questions. \nThe tours are open to all TMWA customers. Each tour is limited to 20 people. Please note: these are lengthy walking tours and will involve climbing a significant number of stairs and walking on even surfaces. \nPlease email rsvp@tmwa.com or call 775-834-8290 to reserve your spot. \nAll attendees will be required to sign a liability waiver before participating in the tour. Attendees must be a minimum of 18 years of age or accompanied by an adult.
URL:https://tmwa.com/meeting/tour-chalk-bluff-water-treatment-plant-sept-24-2024/
LOCATION:Chalk Bluff Water Treatment Plant\, 9605 S. McCarran\, Reno\, NV\, 89523\, United States
CATEGORIES:Tours
END:VEVENT
END:VCALENDAR