BEGIN:VCALENDAR
VERSION:2.0
PRODID:-//Truckee Meadows Water Authority - ECPv6.15.18//NONSGML v1.0//EN
CALSCALE:GREGORIAN
METHOD:PUBLISH
X-WR-CALNAME:Truckee Meadows Water Authority
X-ORIGINAL-URL:https://tmwa.com
X-WR-CALDESC:Events for Truckee Meadows Water Authority
REFRESH-INTERVAL;VALUE=DURATION:PT1H
X-Robots-Tag:noindex
X-PUBLISHED-TTL:PT1H
BEGIN:VTIMEZONE
TZID:America/Los_Angeles
BEGIN:DAYLIGHT
TZOFFSETFROM:-0800
TZOFFSETTO:-0700
TZNAME:PDT
DTSTART:20240310T100000
END:DAYLIGHT
BEGIN:STANDARD
TZOFFSETFROM:-0700
TZOFFSETTO:-0800
TZNAME:PST
DTSTART:20241103T090000
END:STANDARD
BEGIN:DAYLIGHT
TZOFFSETFROM:-0800
TZOFFSETTO:-0700
TZNAME:PDT
DTSTART:20250309T100000
END:DAYLIGHT
BEGIN:STANDARD
TZOFFSETFROM:-0700
TZOFFSETTO:-0800
TZNAME:PST
DTSTART:20251102T090000
END:STANDARD
BEGIN:DAYLIGHT
TZOFFSETFROM:-0800
TZOFFSETTO:-0700
TZNAME:PDT
DTSTART:20260308T100000
END:DAYLIGHT
BEGIN:STANDARD
TZOFFSETFROM:-0700
TZOFFSETTO:-0800
TZNAME:PST
DTSTART:20261101T090000
END:STANDARD
END:VTIMEZONE
BEGIN:VEVENT
DTSTART;TZID=America/Los_Angeles:20250204T150000
DTEND;TZID=America/Los_Angeles:20250204T170000
DTSTAMP:20260423T103016
CREATED:20250110T002823Z
LAST-MODIFIED:20250402T001426Z
UID:32600-1738681200-1738688400@tmwa.com
SUMMARY:TMWA Standing Advisory Committee Meeting-Tues\, Feb 4\, 2025
DESCRIPTION:
URL:https://tmwa.com/meeting/tmwa-standing-advisory-committee-meeting-tues-feb-4-2025/
LOCATION:TMWA Main Office\, 1355 Capital Blvd.\, Reno\, NV\, 89502\, United States
CATEGORIES:Committee Meetings
END:VEVENT
BEGIN:VEVENT
DTSTART;TZID=America/Los_Angeles:20250207T140000
DTEND;TZID=America/Los_Angeles:20250207T150000
DTSTAMP:20260423T103016
CREATED:20250203T173036Z
LAST-MODIFIED:20250314T220923Z
UID:32698-1738936800-1738940400@tmwa.com
SUMMARY:TMWA-WRWC Legislative Subcommittee Meeting-Fri\, Feb 7\, 2025
DESCRIPTION:
URL:https://tmwa.com/meeting/tmwa-wrwc-legislative-subcommittee-meeting-fri-feb-7-2025/
LOCATION:TMWA Main Office\, 1355 Capital Blvd.\, Reno\, NV\, 89502\, United States
CATEGORIES:Committee Meetings
END:VEVENT
BEGIN:VEVENT
DTSTART;TZID=America/Los_Angeles:20250219T100000
DTEND;TZID=America/Los_Angeles:20250219T120000
DTSTAMP:20260423T103016
CREATED:20250110T001842Z
LAST-MODIFIED:20250319T220159Z
UID:32575-1739959200-1739966400@tmwa.com
SUMMARY:TMWA Board of Directors Meeting-Wed\, Feb 19\, 2025
DESCRIPTION:MEETING VIA TELECONFERENCE & IN-PERSON \nMEMBERS OF THE PUBLIC MAY ATTEND VIA THE WEB LINK\, OR TELEPHONICALLY BY CALLING THE NUMBER\, LISTED BELOW. \n(be sure to keep your phones or microphones on mute\, and do not place the call on hold) \nPlease click the link below to join the webinar:  \nhttps://tmwa.zoom.us/j/89110512999?pwd=9d_RtYZbsIqIdTYlbUf_eHiyLK2VIw.GjiPvgdr9D35cFrr \nPasscode: 771487 \nOr call: \nPhone: (888) 788-0099 \nWebinar ID: 891 1051 2999
URL:https://tmwa.com/meeting/tmwa-board-of-directors-meeting-wed-feb-19-2025/
LOCATION:Sparks Council Chambers\, 745 4th Street\, Sparks\, NV\, 89431\, United States
CATEGORIES:Board of Director Meetings
END:VEVENT
BEGIN:VEVENT
DTSTART;TZID=America/Los_Angeles:20250219T100000
DTEND;TZID=America/Los_Angeles:20250219T120000
DTSTAMP:20260423T103016
CREATED:20250207T222601Z
LAST-MODIFIED:20250207T222718Z
UID:32731-1739959200-1739966400@tmwa.com
SUMMARY:Notice of Second Reading-Rules\, 5\, 6 8 & 10
DESCRIPTION:NOTICE OF SECOND READING\nTRUCKEE MEADOWS WATER AUTHORITY\nPROPOSED CHANGES TO TMWA RULE 5 WATER SYSTEM FACILITIES\, RULE 6 SERVICE METER FACILITIES\, RULE 8 DISPUTE RESOLUTION\, AND RULE 10 SPECIAL CONDITIONS AND PROGRAMS
URL:https://tmwa.com/meeting/notice-of-second-reading-rules-5-6-8-10/
LOCATION:Sparks Council Chambers\, 745 4th Street\, Sparks\, NV\, 89431\, United States
CATEGORIES:Hearing,Other Public Meetings
END:VEVENT
END:VCALENDAR