BEGIN:VCALENDAR
VERSION:2.0
PRODID:-//Truckee Meadows Water Authority - ECPv6.15.18//NONSGML v1.0//EN
CALSCALE:GREGORIAN
METHOD:PUBLISH
X-ORIGINAL-URL:https://tmwa.com
X-WR-CALDESC:Events for Truckee Meadows Water Authority
REFRESH-INTERVAL;VALUE=DURATION:PT1H
X-Robots-Tag:noindex
X-PUBLISHED-TTL:PT1H
BEGIN:VTIMEZONE
TZID:America/Los_Angeles
BEGIN:DAYLIGHT
TZOFFSETFROM:-0800
TZOFFSETTO:-0700
TZNAME:PDT
DTSTART:20240310T100000
END:DAYLIGHT
BEGIN:STANDARD
TZOFFSETFROM:-0700
TZOFFSETTO:-0800
TZNAME:PST
DTSTART:20241103T090000
END:STANDARD
BEGIN:DAYLIGHT
TZOFFSETFROM:-0800
TZOFFSETTO:-0700
TZNAME:PDT
DTSTART:20250309T100000
END:DAYLIGHT
BEGIN:STANDARD
TZOFFSETFROM:-0700
TZOFFSETTO:-0800
TZNAME:PST
DTSTART:20251102T090000
END:STANDARD
BEGIN:DAYLIGHT
TZOFFSETFROM:-0800
TZOFFSETTO:-0700
TZNAME:PDT
DTSTART:20260308T100000
END:DAYLIGHT
BEGIN:STANDARD
TZOFFSETFROM:-0700
TZOFFSETTO:-0800
TZNAME:PST
DTSTART:20261101T090000
END:STANDARD
END:VTIMEZONE
BEGIN:VEVENT
DTSTART;TZID=America/Los_Angeles:20250307T140000
DTEND;TZID=America/Los_Angeles:20250307T153000
DTSTAMP:20260423T091627
CREATED:20250304T004207Z
LAST-MODIFIED:20250306T215911Z
UID:32815-1741356000-1741361400@tmwa.com
SUMMARY:CANCELLED: TMWA-WRWC Legislative Subcommittee Meeting-Fri\, Mar 7\, 2025
DESCRIPTION:
URL:https://tmwa.com/meeting/tmwa-wrwc-legislative-subcommittee-meeting-fri-mar-7-2025/
LOCATION:NV
CATEGORIES:Committee Meetings
END:VEVENT
BEGIN:VEVENT
DTSTART;TZID=America/Los_Angeles:20250314T140000
DTEND;TZID=America/Los_Angeles:20250314T153000
DTSTAMP:20260423T091627
CREATED:20250310T234707Z
LAST-MODIFIED:20250407T175200Z
UID:32839-1741960800-1741966200@tmwa.com
SUMMARY:TMWA-WRWC Legislative Subcommittee Meeting-Fri\, Mar 14\, 2025
DESCRIPTION:MEETING VIA TELECONFERENCE & IN-PERSON \nMEMBERS OF THE PUBLIC MAY ATTEND VIA THE WEB LINK\, OR TELEPHONICALLY BY CALLING THE NUMBER\, LISTED BELOW. \n(be sure to keep your phones or microphones on mute\, and do not place the call on hold) \nPlease click the link below to join the meeting: \nhttps://tmwa.zoom.us/j/84614204480?pwd=apu5SryZPbhMQJaXv3W9iKUyi4teT8.1 \nPhone: (877) 853-5247 \nMeeting ID: 846 1420 4480 \nPasscode: 830452
URL:https://tmwa.com/meeting/tmwa-wrwc-legislative-subcommittee-meeting-fri-mar-14-2025/
LOCATION:TMWA Main Office\, 1355 Capital Blvd.\, Reno\, NV\, 89502\, United States
CATEGORIES:Committee Meetings
END:VEVENT
BEGIN:VEVENT
DTSTART;TZID=America/Los_Angeles:20250319T100000
DTEND;TZID=America/Los_Angeles:20250319T120000
DTSTAMP:20260423T091627
CREATED:20250110T001935Z
LAST-MODIFIED:20250319T215959Z
UID:32578-1742378400-1742385600@tmwa.com
SUMMARY:TMWA Board of Directors Meeting-Wed\, Mar 19\, 2025
DESCRIPTION:MEETING VIA TELECONFERENCE & IN-PERSON \nMEMBERS OF THE PUBLIC MAY ATTEND VIA THE WEB LINK\, OR TELEPHONICALLY BY CALLING THE NUMBER\, LISTED BELOW. \n(be sure to keep your phones or microphones on mute\, and do not place the call on hold) \nPlease click the link below to join the webinar:  \nhttps://tmwa.zoom.us/j/89110512999?pwd=9d_RtYZbsIqIdTYlbUf_eHiyLK2VIw.GjiPvgdr9D35cFrr \nPasscode: 771487 \nOr call: \nPhone: (888) 788-0099 \nWebinar ID: 891 1051 2999
URL:https://tmwa.com/meeting/tmwa-board-of-directors-meeting-wed-mar-19-2025/
LOCATION:Sparks Council Chambers\, 745 4th Street\, Sparks\, NV\, 89431\, United States
CATEGORIES:Board of Director Meetings
END:VEVENT
BEGIN:VEVENT
DTSTART;TZID=America/Los_Angeles:20250328T140000
DTEND;TZID=America/Los_Angeles:20250328T153000
DTSTAMP:20260423T091627
CREATED:20250325T150802Z
LAST-MODIFIED:20250327T134925Z
UID:32949-1743170400-1743175800@tmwa.com
SUMMARY:CANCELLED: TMWA & WRWC Concurrent Legislative Subcommittee-Fri\, Mar 28\, 2025
DESCRIPTION:
URL:https://tmwa.com/meeting/tmwa-wrwc-concurrent-legislative-subcommittee-fri-mar-28-2025/
LOCATION:TMWA Main Office\, 1355 Capital Blvd.\, Reno\, NV\, 89502\, United States
CATEGORIES:Committee Meetings
END:VEVENT
END:VCALENDAR