BEGIN:VCALENDAR
VERSION:2.0
PRODID:-//Truckee Meadows Water Authority - ECPv6.15.18//NONSGML v1.0//EN
CALSCALE:GREGORIAN
METHOD:PUBLISH
X-ORIGINAL-URL:https://tmwa.com
X-WR-CALDESC:Events for Truckee Meadows Water Authority
REFRESH-INTERVAL;VALUE=DURATION:PT1H
X-Robots-Tag:noindex
X-PUBLISHED-TTL:PT1H
BEGIN:VTIMEZONE
TZID:America/Los_Angeles
BEGIN:DAYLIGHT
TZOFFSETFROM:-0800
TZOFFSETTO:-0700
TZNAME:PDT
DTSTART:20240310T100000
END:DAYLIGHT
BEGIN:STANDARD
TZOFFSETFROM:-0700
TZOFFSETTO:-0800
TZNAME:PST
DTSTART:20241103T090000
END:STANDARD
BEGIN:DAYLIGHT
TZOFFSETFROM:-0800
TZOFFSETTO:-0700
TZNAME:PDT
DTSTART:20250309T100000
END:DAYLIGHT
BEGIN:STANDARD
TZOFFSETFROM:-0700
TZOFFSETTO:-0800
TZNAME:PST
DTSTART:20251102T090000
END:STANDARD
BEGIN:DAYLIGHT
TZOFFSETFROM:-0800
TZOFFSETTO:-0700
TZNAME:PDT
DTSTART:20260308T100000
END:DAYLIGHT
BEGIN:STANDARD
TZOFFSETFROM:-0700
TZOFFSETTO:-0800
TZNAME:PST
DTSTART:20261101T090000
END:STANDARD
END:VTIMEZONE
BEGIN:VEVENT
DTSTART;TZID=America/Los_Angeles:20250502T140000
DTEND;TZID=America/Los_Angeles:20250502T153000
DTSTAMP:20260423T055902
CREATED:20250428T215956Z
LAST-MODIFIED:20250502T171930Z
UID:33184-1746194400-1746199800@tmwa.com
SUMMARY:CANCELLED: TMWA & WRWC Concurrent Legislative Subcommittee-Fri\, May 2\, 2025
DESCRIPTION:
URL:https://tmwa.com/meeting/tmwa-wrwc-concurrent-legislative-subcommittee-fri-may-2-2025/
LOCATION:TMWA Main Office\, 1355 Capital Blvd.\, Reno\, NV\, 89502\, United States
CATEGORIES:Committee Meetings
END:VEVENT
BEGIN:VEVENT
DTSTART;TZID=America/Los_Angeles:20250509T140000
DTEND;TZID=America/Los_Angeles:20250509T153000
DTSTAMP:20260423T055902
CREATED:20250505T213856Z
LAST-MODIFIED:20250509T204253Z
UID:33250-1746799200-1746804600@tmwa.com
SUMMARY:TMWA & WRWC Concurrent Legislative Subcommittee Meeting-Fri\, May 9\, 2025
DESCRIPTION:MEETING VIA TELECONFERENCE & IN-PERSON \nMEMBERS OF THE PUBLIC MAY ATTEND VIA THE WEB LINK\, OR TELEPHONICALLY BY CALLING THE NUMBER\, LISTED BELOW. \n(be sure to keep your phones or microphones on mute\, and do not place the call on hold) \nPlease click the link below to join the meeting: \nhttps://tmwa.zoom.us/j/84614204480?pwd=apu5SryZPbhMQJaXv3W9iKUyi4teT8.1 \nPhone: (877) 853-5247 \nMeeting ID: 846 1420 4480 \nPasscode: 830452
URL:https://tmwa.com/meeting/tmwa-wrwc-concurrent-legislative-subcommittee-meeting-fri-may-9-2025/
LOCATION:TMWA Main Office\, 1355 Capital Blvd.\, Reno\, NV\, 89502\, United States
CATEGORIES:Committee Meetings
END:VEVENT
BEGIN:VEVENT
DTSTART;TZID=America/Los_Angeles:20250516T140000
DTEND;TZID=America/Los_Angeles:20250516T153000
DTSTAMP:20260423T055902
CREATED:20250512T231911Z
LAST-MODIFIED:20250515T164959Z
UID:33278-1747404000-1747409400@tmwa.com
SUMMARY:CANCELLED: TMWA & WRWC Concurrent Legislative Subcommittee-Fri\, May 16\, 2025
DESCRIPTION:
URL:https://tmwa.com/meeting/tmwa-wrwc-concurrent-legislative-subcommittee-fri-may-16-2025/
LOCATION:TMWA Main Office\, 1355 Capital Blvd.\, Reno\, NV\, 89502\, United States
CATEGORIES:Committee Meetings
END:VEVENT
BEGIN:VEVENT
DTSTART;TZID=America/Los_Angeles:20250522T100000
DTEND;TZID=America/Los_Angeles:20250522T120000
DTSTAMP:20260423T055902
CREATED:20250110T002114Z
LAST-MODIFIED:20250618T195306Z
UID:32582-1747908000-1747915200@tmwa.com
SUMMARY:NEW DAY: TMWA Board of Directors Meeting-Thurs\, May 22\, 2025
DESCRIPTION:MEETING VIA TELECONFERENCE & IN-PERSON \nMEMBERS OF THE PUBLIC MAY ATTEND VIA THE WEB LINK\, OR TELEPHONICALLY BY CALLING THE NUMBER\, LISTED BELOW. \n(be sure to keep your phones or microphones on mute\, and do not place the call on hold) \nPlease click the link below to join the webinar:  \nhttps://tmwa.zoom.us/j/89110512999?pwd=9d_RtYZbsIqIdTYlbUf_eHiyLK2VIw.GjiPvgdr9D35cFrr \nPasscode: 771487 \nOr call: \nPhone: (888) 788-0099 \nWebinar ID: 891 1051 2999
URL:https://tmwa.com/meeting/tmwa-board-of-directors-meeting-thurs-may-22-2025/
LOCATION:Sparks Council Chambers\, 745 4th Street\, Sparks\, NV\, 89431\, United States
CATEGORIES:Board of Director Meetings
END:VEVENT
END:VCALENDAR