BEGIN:VCALENDAR
VERSION:2.0
PRODID:-//Truckee Meadows Water Authority - ECPv6.15.18//NONSGML v1.0//EN
CALSCALE:GREGORIAN
METHOD:PUBLISH
X-ORIGINAL-URL:https://tmwa.com
X-WR-CALDESC:Events for Truckee Meadows Water Authority
REFRESH-INTERVAL;VALUE=DURATION:PT1H
X-Robots-Tag:noindex
X-PUBLISHED-TTL:PT1H
BEGIN:VTIMEZONE
TZID:America/Los_Angeles
BEGIN:DAYLIGHT
TZOFFSETFROM:-0800
TZOFFSETTO:-0700
TZNAME:PDT
DTSTART:20240310T100000
END:DAYLIGHT
BEGIN:STANDARD
TZOFFSETFROM:-0700
TZOFFSETTO:-0800
TZNAME:PST
DTSTART:20241103T090000
END:STANDARD
BEGIN:DAYLIGHT
TZOFFSETFROM:-0800
TZOFFSETTO:-0700
TZNAME:PDT
DTSTART:20250309T100000
END:DAYLIGHT
BEGIN:STANDARD
TZOFFSETFROM:-0700
TZOFFSETTO:-0800
TZNAME:PST
DTSTART:20251102T090000
END:STANDARD
BEGIN:DAYLIGHT
TZOFFSETFROM:-0800
TZOFFSETTO:-0700
TZNAME:PDT
DTSTART:20260308T100000
END:DAYLIGHT
BEGIN:STANDARD
TZOFFSETFROM:-0700
TZOFFSETTO:-0800
TZNAME:PST
DTSTART:20261101T090000
END:STANDARD
END:VTIMEZONE
BEGIN:VEVENT
DTSTART;TZID=America/Los_Angeles:20250917T100000
DTEND;TZID=America/Los_Angeles:20250917T110000
DTSTAMP:20260423T084939
CREATED:20250626T154813Z
LAST-MODIFIED:20250822T220321Z
UID:33493-1758103200-1758106800@tmwa.com
SUMMARY:Verdi Hydroelectric Power Plant Tour – Sept. 17\, 2025
DESCRIPTION:Customers are invited to tour the Verdi Hydroelectric Power Plant\, which has been producing clean\, renewable energy for 100 years. The tours are open to all TMWA customers. Each tour is limited to 20 people. \nThis will be an outdoor event\, and although we expect the temperature to be pleasant\, a hat\, sunglasses or sunscreen might be a good idea. There will be some walking and standing involved\, so comfortable shoes to navigate the dirt\, rocks and some sloped landscape are a must. \nAll attendees will be required to sign a liability waiver before participating in the tour. Attendees must be a minimum of 18 years of age or accompanied by an adult. \nPlease click HERE to RSVP at least 24 hours prior.
URL:https://tmwa.com/meeting/verdi-hydroelectric-power-plant-tour-sept-17-2025/
LOCATION:Verdi Hyrdoelectric Power Plant\, 0 Powerhouse Road\, Reno\, NV\, 89439\, United States
CATEGORIES:Tours
END:VEVENT
BEGIN:VEVENT
DTSTART;TZID=America/Los_Angeles:20250917T100000
DTEND;TZID=America/Los_Angeles:20250917T120000
DTSTAMP:20260423T084939
CREATED:20250110T002401Z
LAST-MODIFIED:20251015T212816Z
UID:32590-1758103200-1758110400@tmwa.com
SUMMARY:TMWA Board of Directors Meeting-Wed\, Sept 17\, 2025
DESCRIPTION:MEETING VIA TELECONFERENCE & IN-PERSON \nMEMBERS OF THE PUBLIC MAY ATTEND VIA THE WEB LINK\, OR TELEPHONICALLY BY CALLING THE NUMBER\, LISTED BELOW. \n(be sure to keep your phones or microphones on mute\, and do not place the call on hold) \nPlease click the link below to join the webinar:  \nhttps://tmwa.zoom.us/j/89110512999?pwd=9d_RtYZbsIqIdTYlbUf_eHiyLK2VIw.GjiPvgdr9D35cFrr \nPasscode: 771487 \nOr call: \nPhone: (888) 788-0099 \nWebinar ID: 891 1051 2999
URL:https://tmwa.com/meeting/tmwa-board-of-directors-meeting-wed-sept-17-2025/
LOCATION:Sparks Council Chambers\, 745 4th Street\, Sparks\, NV\, 89431\, United States
CATEGORIES:Board of Director Meetings
END:VEVENT
END:VCALENDAR