BEGIN:VCALENDAR
VERSION:2.0
PRODID:-//Truckee Meadows Water Authority - ECPv6.15.18//NONSGML v1.0//EN
CALSCALE:GREGORIAN
METHOD:PUBLISH
X-ORIGINAL-URL:https://tmwa.com
X-WR-CALDESC:Events for Truckee Meadows Water Authority
REFRESH-INTERVAL;VALUE=DURATION:PT1H
X-Robots-Tag:noindex
X-PUBLISHED-TTL:PT1H
BEGIN:VTIMEZONE
TZID:America/Los_Angeles
BEGIN:DAYLIGHT
TZOFFSETFROM:-0800
TZOFFSETTO:-0700
TZNAME:PDT
DTSTART:20250309T100000
END:DAYLIGHT
BEGIN:STANDARD
TZOFFSETFROM:-0700
TZOFFSETTO:-0800
TZNAME:PST
DTSTART:20251102T090000
END:STANDARD
BEGIN:DAYLIGHT
TZOFFSETFROM:-0800
TZOFFSETTO:-0700
TZNAME:PDT
DTSTART:20260308T100000
END:DAYLIGHT
BEGIN:STANDARD
TZOFFSETFROM:-0700
TZOFFSETTO:-0800
TZNAME:PST
DTSTART:20261101T090000
END:STANDARD
BEGIN:DAYLIGHT
TZOFFSETFROM:-0800
TZOFFSETTO:-0700
TZNAME:PDT
DTSTART:20270314T100000
END:DAYLIGHT
BEGIN:STANDARD
TZOFFSETFROM:-0700
TZOFFSETTO:-0800
TZNAME:PST
DTSTART:20271107T090000
END:STANDARD
END:VTIMEZONE
BEGIN:VEVENT
DTSTART;TZID=America/Los_Angeles:20260602T150000
DTEND;TZID=America/Los_Angeles:20260602T170000
DTSTAMP:20260423T084414
CREATED:20260128T211302Z
LAST-MODIFIED:20260128T211302Z
UID:34326-1780412400-1780419600@tmwa.com
SUMMARY:Standing Advisory Committee-Tues\, Jun 2\, 2026
DESCRIPTION:
URL:https://tmwa.com/meeting/standing-advisory-committee-tues-jun-2-2026/
LOCATION:TMWA Main Office\, 1355 Capital Blvd.\, Reno\, NV\, 89502\, United States
CATEGORIES:Committee Meetings
END:VEVENT
BEGIN:VEVENT
DTSTART;TZID=America/Los_Angeles:20260603T100000
DTEND;TZID=America/Los_Angeles:20260603T110000
DTSTAMP:20260423T084414
CREATED:20250626T154222Z
LAST-MODIFIED:20260212T154204Z
UID:33480-1780480800-1780484400@tmwa.com
SUMMARY:Verdi Hydroelectric Power Plant Tour – June 3\, 2026
DESCRIPTION:Customers are invited to tour the Verdi Hydroelectric Power Plant\, which has been producing clean\, renewable energy for 100 years. The tours are open to all TMWA customers. Each tour is limited to 20 people. \nPlease click HERE to RSVP at least 24 hours prior. \nAll attendees will be required to sign a liability waiver before participating in the tour. Attendees must be a minimum of 18 years of age or accompanied by an adult.
URL:https://tmwa.com/meeting/verdi-hydroelectric-power-plant-tour-jun-3-2026/
LOCATION:Verdi Hyrdoelectric Power Plant\, 0 Powerhouse Road\, Reno\, NV\, 89439\, United States
CATEGORIES:Tours
END:VEVENT
BEGIN:VEVENT
DTSTART;TZID=America/Los_Angeles:20260610T100000
DTEND;TZID=America/Los_Angeles:20260610T110000
DTSTAMP:20260423T084414
CREATED:20250626T154334Z
LAST-MODIFIED:20260212T154407Z
UID:33482-1781085600-1781089200@tmwa.com
SUMMARY:Verdi Hydroelectric Power Plant Tour – June 10\, 2026
DESCRIPTION:Customers are invited to tour the Verdi Hydroelectric Power Plant\, which has been producing clean\, renewable energy for 100 years. The tours are open to all TMWA customers. Each tour is limited to 20 people. \nPlease click HERE to RSVP at least 24 hours prior. \nAll attendees will be required to sign a liability waiver before participating in the tour. Attendees must be a minimum of 18 years of age or accompanied by an adult.
URL:https://tmwa.com/meeting/verdi-hydroelectric-power-plant-tour-jun-10-2026/
LOCATION:Verdi Hyrdoelectric Power Plant\, 0 Powerhouse Road\, Reno\, NV\, 89439\, United States
CATEGORIES:Tours
END:VEVENT
BEGIN:VEVENT
DTSTART;TZID=America/Los_Angeles:20260613T100000
DTEND;TZID=America/Los_Angeles:20260613T110000
DTSTAMP:20260423T084414
CREATED:20250626T154614Z
LAST-MODIFIED:20260212T154003Z
UID:33487-1781344800-1781348400@tmwa.com
SUMMARY:Verdi Hydroelectric Power Plant Tour – June 13\, 2026
DESCRIPTION:Customers are invited to tour the Verdi Hydroelectric Power Plant\, which has been producing clean\, renewable energy for 100 years. The tours are open to all TMWA customers. Each tour is limited to 20 people. \nThis will be an outdoor event\, and although we expect the temperature to be pleasant\, a hat\, sunglasses or sunscreen might be a good idea. There will be some walking and standing involved\, so comfortable shoes to navigate the dirt\, rocks and some sloped landscape are a must. \nAll attendees will be required to sign a liability waiver before participating in the tour. Attendees must be a minimum of 18 years of age or accompanied by an adult. \nPlease click HERE to RSVP at least 24 hours prior.
URL:https://tmwa.com/meeting/verdi-hydroelectric-power-plant-tour-jun-13-2026/
LOCATION:Verdi Hyrdoelectric Power Plant\, 0 Powerhouse Road\, Reno\, NV\, 89439\, United States
CATEGORIES:Tours
END:VEVENT
BEGIN:VEVENT
DTSTART;TZID=America/Los_Angeles:20260617T100000
DTEND;TZID=America/Los_Angeles:20260617T120000
DTSTAMP:20260423T084414
CREATED:20251211T232713Z
LAST-MODIFIED:20251211T232713Z
UID:34144-1781690400-1781697600@tmwa.com
SUMMARY:Board of Directors Meeting - Wed\, Jun 17 2026
DESCRIPTION:
URL:https://tmwa.com/meeting/board-of-directors-meeting-wed-jun-17-2026/
LOCATION:Sparks Council Chambers\, 745 4th Street\, Sparks\, NV\, 89431\, United States
CATEGORIES:Board of Director Meetings
END:VEVENT
BEGIN:VEVENT
DTSTART;TZID=America/Los_Angeles:20260617T140000
DTEND;TZID=America/Los_Angeles:20260617T150000
DTSTAMP:20260423T084414
CREATED:20250626T154705Z
LAST-MODIFIED:20260212T154732Z
UID:33490-1781704800-1781708400@tmwa.com
SUMMARY:Verdi Hydroelectric Power Plant Tour – June 17\, 2026
DESCRIPTION:Customers are invited to tour the Verdi Hydroelectric Power Plant\, which has been producing clean\, renewable energy for 100 years. The tours are open to all TMWA customers. Each tour is limited to 20 people. \nThis will be an outdoor event\, and although we expect the temperature to be pleasant\, a hat\, sunglasses or sunscreen might be a good idea. There will be some walking and standing involved\, so comfortable shoes to navigate the dirt\, rocks and some sloped landscape are a must. \nAll attendees will be required to sign a liability waiver before participating in the tour. Attendees must be a minimum of 18 years of age or accompanied by an adult. \nPlease click HERE to RSVP at least 24 hours prior.
URL:https://tmwa.com/meeting/verdi-hydroelectric-power-plant-tour-jun-17-2026/
LOCATION:Verdi Hyrdoelectric Power Plant\, 0 Powerhouse Road\, Reno\, NV\, 89439\, United States
CATEGORIES:Tours
END:VEVENT
BEGIN:VEVENT
DTSTART;TZID=America/Los_Angeles:20260624T140000
DTEND;TZID=America/Los_Angeles:20260624T150000
DTSTAMP:20260423T084414
CREATED:20250626T154942Z
LAST-MODIFIED:20260212T155011Z
UID:33496-1782309600-1782313200@tmwa.com
SUMMARY:Verdi Hydroelectric Power Plant Tour – June 24\, 2026
DESCRIPTION:Customers are invited to tour the Verdi Hydroelectric Power Plant\, which has been producing clean\, renewable energy for 100 years. The tours are open to all TMWA customers. Each tour is limited to 20 people. \nThis will be an outdoor event\, and although we expect the temperature to be pleasant\, a hat\, sunglasses or sunscreen might be a good idea. There will be some walking and standing involved\, so comfortable shoes to navigate the dirt\, rocks and some sloped landscape are a must. \nAll attendees will be required to sign a liability waiver before participating in the tour. Attendees must be a minimum of 18 years of age or accompanied by an adult. \nPlease click HERE to RSVP at least 24 hours prior.
URL:https://tmwa.com/meeting/verdi-hydroelectric-power-plant-tour-jun-24-2026/
LOCATION:Verdi Hyrdoelectric Power Plant\, 0 Powerhouse Road\, Reno\, NV\, 89439\, United States
CATEGORIES:Tours
END:VEVENT
END:VCALENDAR